BEGIN:VCALENDAR
VERSION:2.0
PRODID:-//Leigh Academy Ebbsfleet - ECPv6.15.20//NONSGML v1.0//EN
CALSCALE:GREGORIAN
METHOD:PUBLISH
X-ORIGINAL-URL:https://leighacademyebbsfleet.org.uk
X-WR-CALDESC:Events for Leigh Academy Ebbsfleet
REFRESH-INTERVAL;VALUE=DURATION:PT1H
X-Robots-Tag:noindex
X-PUBLISHED-TTL:PT1H
BEGIN:VTIMEZONE
TZID:UTC
BEGIN:STANDARD
TZOFFSETFROM:+0000
TZOFFSETTO:+0000
TZNAME:UTC
DTSTART:20240101T000000
END:STANDARD
END:VTIMEZONE
BEGIN:VEVENT
DTSTART;VALUE=DATE:20251002
DTEND;VALUE=DATE:20251003
DTSTAMP:20260420T193001
CREATED:20250915T123712Z
LAST-MODIFIED:20250915T123712Z
UID:2056-1759363200-1759449599@leighacademyebbsfleet.org.uk
SUMMARY:School Photo Catch Up Session
DESCRIPTION:(for any students who were absent on 19th September)
URL:https://leighacademyebbsfleet.org.uk/event/school-photo-catch-up-session-2/
END:VEVENT
BEGIN:VEVENT
DTSTART;VALUE=DATE:20251016
DTEND;VALUE=DATE:20251017
DTSTAMP:20260420T193001
CREATED:20250915T124706Z
LAST-MODIFIED:20250915T124915Z
UID:2058-1760572800-1760659199@leighacademyebbsfleet.org.uk
SUMMARY:Year 11 Parent Evening: 1
DESCRIPTION:
URL:https://leighacademyebbsfleet.org.uk/event/year-11-parent-evening-1/
CATEGORIES:Parents' Evenings
END:VEVENT
BEGIN:VEVENT
DTSTART;VALUE=DATE:20251017
DTEND;VALUE=DATE:20251018
DTSTAMP:20260420T193001
CREATED:20250915T124741Z
LAST-MODIFIED:20250915T125006Z
UID:2059-1760659200-1760745599@leighacademyebbsfleet.org.uk
SUMMARY:Last Day of Term 1
DESCRIPTION:
URL:https://leighacademyebbsfleet.org.uk/event/last-day-of-term-1/
CATEGORIES:Term Dates
END:VEVENT
END:VCALENDAR