BEGIN:VCALENDAR
VERSION:2.0
PRODID:-//Leigh Academy Ebbsfleet - ECPv6.15.20//NONSGML v1.0//EN
CALSCALE:GREGORIAN
METHOD:PUBLISH
X-ORIGINAL-URL:https://leighacademyebbsfleet.org.uk
X-WR-CALDESC:Events for Leigh Academy Ebbsfleet
REFRESH-INTERVAL;VALUE=DURATION:PT1H
X-Robots-Tag:noindex
X-PUBLISHED-TTL:PT1H
BEGIN:VTIMEZONE
TZID:UTC
BEGIN:STANDARD
TZOFFSETFROM:+0000
TZOFFSETTO:+0000
TZNAME:UTC
DTSTART:20240101T000000
END:STANDARD
END:VTIMEZONE
BEGIN:VEVENT
DTSTART;VALUE=DATE:20251117
DTEND;VALUE=DATE:20251118
DTSTAMP:20260420T224756
CREATED:20250915T125025Z
LAST-MODIFIED:20250915T125025Z
UID:2062-1763337600-1763423999@leighacademyebbsfleet.org.uk
SUMMARY:Year 11 & 13 Mock Exams Begin
DESCRIPTION:
URL:https://leighacademyebbsfleet.org.uk/event/year-11-13-mock-exams-begin-2/
CATEGORIES:Exams
END:VEVENT
BEGIN:VEVENT
DTSTART;VALUE=DATE:20251204
DTEND;VALUE=DATE:20251205
DTSTAMP:20260420T224756
CREATED:20250915T125044Z
LAST-MODIFIED:20250915T125044Z
UID:2063-1764806400-1764892799@leighacademyebbsfleet.org.uk
SUMMARY:Year 8 Parent Evening
DESCRIPTION:
URL:https://leighacademyebbsfleet.org.uk/event/year-8-parent-evening/
CATEGORIES:Parents' Evenings
END:VEVENT
BEGIN:VEVENT
DTSTART;VALUE=DATE:20251212
DTEND;VALUE=DATE:20251213
DTSTAMP:20260420T224756
CREATED:20250915T125104Z
LAST-MODIFIED:20250915T125104Z
UID:2064-1765497600-1765583999@leighacademyebbsfleet.org.uk
SUMMARY:Whole School Flu Vaccine - NHS
DESCRIPTION:
URL:https://leighacademyebbsfleet.org.uk/event/whole-school-flu-vaccine-nhs/
CATEGORIES:School Events
END:VEVENT
BEGIN:VEVENT
DTSTART;VALUE=DATE:20251218
DTEND;VALUE=DATE:20251219
DTSTAMP:20260420T224756
CREATED:20250915T125125Z
LAST-MODIFIED:20250915T125125Z
UID:2065-1766016000-1766102399@leighacademyebbsfleet.org.uk
SUMMARY:Year 13 Parent Evening
DESCRIPTION:
URL:https://leighacademyebbsfleet.org.uk/event/year-13-parent-evening/
CATEGORIES:Parents' Evenings
END:VEVENT
BEGIN:VEVENT
DTSTART;VALUE=DATE:20251219
DTEND;VALUE=DATE:20251220
DTSTAMP:20260420T224756
CREATED:20250915T125149Z
LAST-MODIFIED:20250915T125149Z
UID:2066-1766102400-1766188799@leighacademyebbsfleet.org.uk
SUMMARY:Last Day of Term 2
DESCRIPTION:
URL:https://leighacademyebbsfleet.org.uk/event/last-day-of-term-2-2/
CATEGORIES:Term Dates
END:VEVENT
BEGIN:VEVENT
DTSTART;VALUE=DATE:20260105
DTEND;VALUE=DATE:20260106
DTSTAMP:20260420T224756
CREATED:20250915T125222Z
LAST-MODIFIED:20250915T125222Z
UID:2067-1767571200-1767657599@leighacademyebbsfleet.org.uk
SUMMARY:INSET Day 3 (No students in school)
DESCRIPTION:
URL:https://leighacademyebbsfleet.org.uk/event/inset-day-3-no-students-in-school/
CATEGORIES:Holidays,Term Dates
END:VEVENT
BEGIN:VEVENT
DTSTART;VALUE=DATE:20260106
DTEND;VALUE=DATE:20260107
DTSTAMP:20260420T224756
CREATED:20250915T125242Z
LAST-MODIFIED:20250915T125242Z
UID:2068-1767657600-1767743999@leighacademyebbsfleet.org.uk
SUMMARY:First Day of Term 3
DESCRIPTION:
URL:https://leighacademyebbsfleet.org.uk/event/first-day-of-term-3-2/
CATEGORIES:Term Dates
END:VEVENT
BEGIN:VEVENT
DTSTART;VALUE=DATE:20260116
DTEND;VALUE=DATE:20260117
DTSTAMP:20260420T224756
CREATED:20250915T125313Z
LAST-MODIFIED:20250915T125313Z
UID:2069-1768521600-1768607999@leighacademyebbsfleet.org.uk
SUMMARY:Careers Fair
DESCRIPTION:
URL:https://leighacademyebbsfleet.org.uk/event/careers-fair/
END:VEVENT
BEGIN:VEVENT
DTSTART;VALUE=DATE:20260127
DTEND;VALUE=DATE:20260128
DTSTAMP:20260420T224756
CREATED:20250915T125335Z
LAST-MODIFIED:20250915T125335Z
UID:2070-1769472000-1769558399@leighacademyebbsfleet.org.uk
SUMMARY:Mid-Year Awards Evening - Year 7\, 8 & 9
DESCRIPTION:
URL:https://leighacademyebbsfleet.org.uk/event/mid-year-awards-evening-year-7-8-9/
CATEGORIES:School Events
END:VEVENT
BEGIN:VEVENT
DTSTART;VALUE=DATE:20260203
DTEND;VALUE=DATE:20260204
DTSTAMP:20260420T224756
CREATED:20250915T125357Z
LAST-MODIFIED:20250915T125357Z
UID:2071-1770076800-1770163199@leighacademyebbsfleet.org.uk
SUMMARY:Mid-Year Awards Evening - Year 10\, 11\, 12 & 13
DESCRIPTION:
URL:https://leighacademyebbsfleet.org.uk/event/mid-year-awards-evening-year-10-11-12-13/
CATEGORIES:School Events
END:VEVENT
BEGIN:VEVENT
DTSTART;VALUE=DATE:20260212
DTEND;VALUE=DATE:20260213
DTSTAMP:20260420T224756
CREATED:20250915T125431Z
LAST-MODIFIED:20250915T125431Z
UID:2073-1770854400-1770940799@leighacademyebbsfleet.org.uk
SUMMARY:Last Day of Term 3
DESCRIPTION:
URL:https://leighacademyebbsfleet.org.uk/event/last-day-of-term-3-2/
CATEGORIES:Term Dates
END:VEVENT
BEGIN:VEVENT
DTSTART;VALUE=DATE:20260213
DTEND;VALUE=DATE:20260214
DTSTAMP:20260420T224756
CREATED:20250915T125453Z
LAST-MODIFIED:20250915T125453Z
UID:2074-1770940800-1771027199@leighacademyebbsfleet.org.uk
SUMMARY:INSET Day 4 (No students in school)
DESCRIPTION:
URL:https://leighacademyebbsfleet.org.uk/event/inset-day-4-no-students-in-school/
CATEGORIES:Holidays,Term Dates
END:VEVENT
BEGIN:VEVENT
DTSTART;VALUE=DATE:20260223
DTEND;VALUE=DATE:20260224
DTSTAMP:20260420T224756
CREATED:20250915T125513Z
LAST-MODIFIED:20250915T125513Z
UID:2075-1771804800-1771891199@leighacademyebbsfleet.org.uk
SUMMARY:First Day of Term 4
DESCRIPTION:
URL:https://leighacademyebbsfleet.org.uk/event/first-day-of-term-4-2/
CATEGORIES:Term Dates
END:VEVENT
BEGIN:VEVENT
DTSTART;VALUE=DATE:20260223
DTEND;VALUE=DATE:20260224
DTSTAMP:20260420T224756
CREATED:20250915T125533Z
LAST-MODIFIED:20250915T125533Z
UID:2076-1771804800-1771891199@leighacademyebbsfleet.org.uk
SUMMARY:Year 10 & 12 Mock Exams Begin
DESCRIPTION:
URL:https://leighacademyebbsfleet.org.uk/event/year-10-12-mock-exams-begin-2/
CATEGORIES:Exams
END:VEVENT
BEGIN:VEVENT
DTSTART;VALUE=DATE:20260226
DTEND;VALUE=DATE:20260227
DTSTAMP:20260420T224756
CREATED:20250915T125556Z
LAST-MODIFIED:20250915T125556Z
UID:2077-1772064000-1772150399@leighacademyebbsfleet.org.uk
SUMMARY:Year 11 Parent Evening: 2
DESCRIPTION:
URL:https://leighacademyebbsfleet.org.uk/event/year-11-parent-evening-2/
CATEGORIES:Parents' Evenings
END:VEVENT
BEGIN:VEVENT
DTSTART;VALUE=DATE:20260312
DTEND;VALUE=DATE:20260313
DTSTAMP:20260420T224756
CREATED:20250915T125625Z
LAST-MODIFIED:20250915T125625Z
UID:2079-1773273600-1773359999@leighacademyebbsfleet.org.uk
SUMMARY:Year 9 Options Event
DESCRIPTION:
URL:https://leighacademyebbsfleet.org.uk/event/year-9-options-event-2/
CATEGORIES:School Events
END:VEVENT
BEGIN:VEVENT
DTSTART;VALUE=DATE:20260323
DTEND;VALUE=DATE:20260324
DTSTAMP:20260420T224756
CREATED:20250915T125652Z
LAST-MODIFIED:20250915T125652Z
UID:2080-1774224000-1774310399@leighacademyebbsfleet.org.uk
SUMMARY:Book Fair Week (Main Hall)
DESCRIPTION:
URL:https://leighacademyebbsfleet.org.uk/event/book-fair-week-main-hall/
CATEGORIES:School Events
END:VEVENT
BEGIN:VEVENT
DTSTART;VALUE=DATE:20260326
DTEND;VALUE=DATE:20260327
DTSTAMP:20260420T224756
CREATED:20250915T125716Z
LAST-MODIFIED:20250915T125716Z
UID:2081-1774483200-1774569599@leighacademyebbsfleet.org.uk
SUMMARY:Year 9 Parent Evening
DESCRIPTION:
URL:https://leighacademyebbsfleet.org.uk/event/year-9-parent-evening/
CATEGORIES:Parents' Evenings
END:VEVENT
BEGIN:VEVENT
DTSTART;VALUE=DATE:20260402
DTEND;VALUE=DATE:20260403
DTSTAMP:20260420T224756
CREATED:20250915T125743Z
LAST-MODIFIED:20250915T125743Z
UID:2082-1775088000-1775174399@leighacademyebbsfleet.org.uk
SUMMARY:Last Day of Term 4
DESCRIPTION:
URL:https://leighacademyebbsfleet.org.uk/event/last-day-of-term-4-2/
CATEGORIES:Term Dates
END:VEVENT
BEGIN:VEVENT
DTSTART;VALUE=DATE:20260420
DTEND;VALUE=DATE:20260421
DTSTAMP:20260420T224756
CREATED:20250915T125800Z
LAST-MODIFIED:20250915T125800Z
UID:2083-1776643200-1776729599@leighacademyebbsfleet.org.uk
SUMMARY:First Day of Term 5
DESCRIPTION:
URL:https://leighacademyebbsfleet.org.uk/event/first-day-of-term-5-2/
CATEGORIES:Term Dates
END:VEVENT
BEGIN:VEVENT
DTSTART;VALUE=DATE:20260423
DTEND;VALUE=DATE:20260424
DTSTAMP:20260420T224756
CREATED:20250915T125821Z
LAST-MODIFIED:20250915T125821Z
UID:2084-1776902400-1776988799@leighacademyebbsfleet.org.uk
SUMMARY:Year 10 Parent Evening
DESCRIPTION:
URL:https://leighacademyebbsfleet.org.uk/event/year-10-parent-evening/
CATEGORIES:Parents' Evenings
END:VEVENT
BEGIN:VEVENT
DTSTART;VALUE=DATE:20260430
DTEND;VALUE=DATE:20260501
DTSTAMP:20260420T224756
CREATED:20250915T125844Z
LAST-MODIFIED:20250915T125844Z
UID:2085-1777507200-1777593599@leighacademyebbsfleet.org.uk
SUMMARY:Year 12 Parent Evening
DESCRIPTION:
URL:https://leighacademyebbsfleet.org.uk/event/year-12-parent-evening/
CATEGORIES:Parents' Evenings
END:VEVENT
BEGIN:VEVENT
DTSTART;VALUE=DATE:20260501
DTEND;VALUE=DATE:20260502
DTSTAMP:20260420T224756
CREATED:20250915T125900Z
LAST-MODIFIED:20250915T125900Z
UID:2086-1777593600-1777679999@leighacademyebbsfleet.org.uk
SUMMARY:Culture Day
DESCRIPTION:
URL:https://leighacademyebbsfleet.org.uk/event/culture-day-3/
END:VEVENT
BEGIN:VEVENT
DTSTART;VALUE=DATE:20260504
DTEND;VALUE=DATE:20260505
DTSTAMP:20260420T224756
CREATED:20250915T125921Z
LAST-MODIFIED:20250915T125921Z
UID:2087-1777852800-1777939199@leighacademyebbsfleet.org.uk
SUMMARY:Bank Holiday
DESCRIPTION:
URL:https://leighacademyebbsfleet.org.uk/event/bank-holiday-2/
CATEGORIES:Holidays,Term Dates
END:VEVENT
BEGIN:VEVENT
DTSTART;VALUE=DATE:20260505
DTEND;VALUE=DATE:20260506
DTSTAMP:20260420T224756
CREATED:20250915T125955Z
LAST-MODIFIED:20250915T125955Z
UID:2088-1777939200-1778025599@leighacademyebbsfleet.org.uk
SUMMARY:Year 11 & 13 GCSE and A-Level Exams Begin
DESCRIPTION:
URL:https://leighacademyebbsfleet.org.uk/event/year-11-13-gcse-and-a-level-exams-begin-2/
CATEGORIES:Exams
END:VEVENT
BEGIN:VEVENT
DTSTART;VALUE=DATE:20260514
DTEND;VALUE=DATE:20260515
DTSTAMP:20260420T224756
CREATED:20250915T130014Z
LAST-MODIFIED:20250915T130014Z
UID:2089-1778716800-1778803199@leighacademyebbsfleet.org.uk
SUMMARY:Year 7 Parent Evening
DESCRIPTION:
URL:https://leighacademyebbsfleet.org.uk/event/year-7-parent-evening/
CATEGORIES:Parents' Evenings
END:VEVENT
BEGIN:VEVENT
DTSTART;VALUE=DATE:20260601
DTEND;VALUE=DATE:20260602
DTSTAMP:20260420T224756
CREATED:20250915T130049Z
LAST-MODIFIED:20250915T130049Z
UID:2091-1780272000-1780358399@leighacademyebbsfleet.org.uk
SUMMARY:First Day of Term 6
DESCRIPTION:
URL:https://leighacademyebbsfleet.org.uk/event/first-day-of-term-6-2/
CATEGORIES:Term Dates
END:VEVENT
BEGIN:VEVENT
DTSTART;VALUE=DATE:20260622
DTEND;VALUE=DATE:20260624
DTSTAMP:20260420T224756
CREATED:20250915T130148Z
LAST-MODIFIED:20250915T130148Z
UID:2093-1782086400-1782259199@leighacademyebbsfleet.org.uk
SUMMARY:LAE6 Induction Days
DESCRIPTION:
URL:https://leighacademyebbsfleet.org.uk/event/lae6-induction-days/
CATEGORIES:Featured
END:VEVENT
BEGIN:VEVENT
DTSTART;VALUE=DATE:20260623
DTEND;VALUE=DATE:20260624
DTSTAMP:20260420T224756
CREATED:20250915T130118Z
LAST-MODIFIED:20250915T130118Z
UID:2092-1782172800-1782259199@leighacademyebbsfleet.org.uk
SUMMARY:Year 10 & 12 Mock Exams Begin
DESCRIPTION:
URL:https://leighacademyebbsfleet.org.uk/event/year-10-12-mock-exams-begin-3/
CATEGORIES:Exams
END:VEVENT
BEGIN:VEVENT
DTSTART;VALUE=DATE:20260625
DTEND;VALUE=DATE:20260626
DTSTAMP:20260420T224756
CREATED:20250915T130210Z
LAST-MODIFIED:20250915T130210Z
UID:2094-1782345600-1782431999@leighacademyebbsfleet.org.uk
SUMMARY:Year 11 PROM
DESCRIPTION:
URL:https://leighacademyebbsfleet.org.uk/event/year-11-prom-2/
CATEGORIES:School Events
END:VEVENT
END:VCALENDAR