BEGIN:VCALENDAR
VERSION:2.0
PRODID:-//Leigh Academy Ebbsfleet - ECPv6.15.20//NONSGML v1.0//EN
CALSCALE:GREGORIAN
METHOD:PUBLISH
X-ORIGINAL-URL:https://leighacademyebbsfleet.org.uk
X-WR-CALDESC:Events for Leigh Academy Ebbsfleet
REFRESH-INTERVAL;VALUE=DURATION:PT1H
X-Robots-Tag:noindex
X-PUBLISHED-TTL:PT1H
BEGIN:VTIMEZONE
TZID:UTC
BEGIN:STANDARD
TZOFFSETFROM:+0000
TZOFFSETTO:+0000
TZNAME:UTC
DTSTART:20210101T000000
END:STANDARD
END:VTIMEZONE
BEGIN:VEVENT
DTSTART;VALUE=DATE:20260323
DTEND;VALUE=DATE:20260324
DTSTAMP:20260422T142951
CREATED:20250915T125652Z
LAST-MODIFIED:20250915T125652Z
UID:2080-1774224000-1774310399@leighacademyebbsfleet.org.uk
SUMMARY:Book Fair Week (Main Hall)
DESCRIPTION:
URL:https://leighacademyebbsfleet.org.uk/event/book-fair-week-main-hall/
CATEGORIES:School Events
END:VEVENT
BEGIN:VEVENT
DTSTART;VALUE=DATE:20260312
DTEND;VALUE=DATE:20260313
DTSTAMP:20260422T142951
CREATED:20250915T125625Z
LAST-MODIFIED:20250915T125625Z
UID:2079-1773273600-1773359999@leighacademyebbsfleet.org.uk
SUMMARY:Year 9 Options Event
DESCRIPTION:
URL:https://leighacademyebbsfleet.org.uk/event/year-9-options-event-2/
CATEGORIES:School Events
END:VEVENT
BEGIN:VEVENT
DTSTART;VALUE=DATE:20260203
DTEND;VALUE=DATE:20260204
DTSTAMP:20260422T142951
CREATED:20250915T125357Z
LAST-MODIFIED:20250915T125357Z
UID:2071-1770076800-1770163199@leighacademyebbsfleet.org.uk
SUMMARY:Mid-Year Awards Evening - Year 10\, 11\, 12 & 13
DESCRIPTION:
URL:https://leighacademyebbsfleet.org.uk/event/mid-year-awards-evening-year-10-11-12-13/
CATEGORIES:School Events
END:VEVENT
BEGIN:VEVENT
DTSTART;VALUE=DATE:20260127
DTEND;VALUE=DATE:20260128
DTSTAMP:20260422T142951
CREATED:20250915T125335Z
LAST-MODIFIED:20250915T125335Z
UID:2070-1769472000-1769558399@leighacademyebbsfleet.org.uk
SUMMARY:Mid-Year Awards Evening - Year 7\, 8 & 9
DESCRIPTION:
URL:https://leighacademyebbsfleet.org.uk/event/mid-year-awards-evening-year-7-8-9/
CATEGORIES:School Events
END:VEVENT
BEGIN:VEVENT
DTSTART;VALUE=DATE:20251212
DTEND;VALUE=DATE:20251213
DTSTAMP:20260422T142951
CREATED:20250915T125104Z
LAST-MODIFIED:20250915T125104Z
UID:2064-1765497600-1765583999@leighacademyebbsfleet.org.uk
SUMMARY:Whole School Flu Vaccine - NHS
DESCRIPTION:
URL:https://leighacademyebbsfleet.org.uk/event/whole-school-flu-vaccine-nhs/
CATEGORIES:School Events
END:VEVENT
BEGIN:VEVENT
DTSTART;VALUE=DATE:20251112
DTEND;VALUE=DATE:20251113
DTSTAMP:20260422T142951
CREATED:20250915T124947Z
LAST-MODIFIED:20250915T124947Z
UID:2061-1762905600-1762991999@leighacademyebbsfleet.org.uk
SUMMARY:LAE6 Open Evening (for Year 11 and External Applicants)
DESCRIPTION:
URL:https://leighacademyebbsfleet.org.uk/event/lae6-open-evening-for-year-11-and-external-applicants/
CATEGORIES:School Events
END:VEVENT
BEGIN:VEVENT
DTSTART;VALUE=DATE:20230720
DTEND;VALUE=DATE:20230721
DTSTAMP:20260422T142951
CREATED:20220721T134236Z
LAST-MODIFIED:20220721T134236Z
UID:609-1689811200-1689897599@leighacademyebbsfleet.org.uk
SUMMARY:KS4/5 Awards Evening
DESCRIPTION:
URL:https://leighacademyebbsfleet.org.uk/event/ks4-5-awards-evening-2/
CATEGORIES:School Events
END:VEVENT
BEGIN:VEVENT
DTSTART;VALUE=DATE:20230718
DTEND;VALUE=DATE:20230719
DTSTAMP:20260422T142951
CREATED:20220721T134212Z
LAST-MODIFIED:20220721T134212Z
UID:608-1689638400-1689724799@leighacademyebbsfleet.org.uk
SUMMARY:KS3 Awards Evening
DESCRIPTION:
URL:https://leighacademyebbsfleet.org.uk/event/ks3-awards-evening-3/
CATEGORIES:School Events
END:VEVENT
BEGIN:VEVENT
DTSTART;VALUE=DATE:20230717
DTEND;VALUE=DATE:20230718
DTSTAMP:20260422T142951
CREATED:20220721T134023Z
LAST-MODIFIED:20220721T134023Z
UID:605-1689552000-1689638399@leighacademyebbsfleet.org.uk
SUMMARY:KS3 Awards Evening
DESCRIPTION:
URL:https://leighacademyebbsfleet.org.uk/event/ks3-awards-evening-2/
CATEGORIES:School Events
END:VEVENT
BEGIN:VEVENT
DTSTART;VALUE=DATE:20230714
DTEND;VALUE=DATE:20230715
DTSTAMP:20260422T142951
CREATED:20220721T133547Z
LAST-MODIFIED:20220721T133547Z
UID:602-1689292800-1689379199@leighacademyebbsfleet.org.uk
SUMMARY:Sports Day
DESCRIPTION:
URL:https://leighacademyebbsfleet.org.uk/event/sports-day-2/
CATEGORIES:School Events
END:VEVENT
BEGIN:VEVENT
DTSTART;VALUE=DATE:20230710
DTEND;VALUE=DATE:20230715
DTSTAMP:20260422T142951
CREATED:20220721T133530Z
LAST-MODIFIED:20220721T133530Z
UID:604-1688947200-1689379199@leighacademyebbsfleet.org.uk
SUMMARY:Careers Week
DESCRIPTION:
URL:https://leighacademyebbsfleet.org.uk/event/careers-week/
CATEGORIES:School Events
END:VEVENT
BEGIN:VEVENT
DTSTART;VALUE=DATE:20230708
DTEND;VALUE=DATE:20230710
DTSTAMP:20260422T142951
CREATED:20220721T133510Z
LAST-MODIFIED:20220721T133510Z
UID:603-1688774400-1688947199@leighacademyebbsfleet.org.uk
SUMMARY:Duke of Edinburgh Expedition
DESCRIPTION:
URL:https://leighacademyebbsfleet.org.uk/event/duke-of-edinburgh-expedition/
CATEGORIES:School Events
END:VEVENT
BEGIN:VEVENT
DTSTART;VALUE=DATE:20230707
DTEND;VALUE=DATE:20230708
DTSTAMP:20260422T142951
CREATED:20220721T133423Z
LAST-MODIFIED:20220721T133423Z
UID:596-1688688000-1688774399@leighacademyebbsfleet.org.uk
SUMMARY:Year 6 Transition Day
DESCRIPTION:
URL:https://leighacademyebbsfleet.org.uk/event/year-6-transition-day/
CATEGORIES:School Events
END:VEVENT
BEGIN:VEVENT
DTSTART;VALUE=DATE:20230629
DTEND;VALUE=DATE:20230630
DTSTAMP:20260422T142951
CREATED:20220721T133305Z
LAST-MODIFIED:20220721T133305Z
UID:594-1687996800-1688083199@leighacademyebbsfleet.org.uk
SUMMARY:Year 11 and 13 Prom
DESCRIPTION:
URL:https://leighacademyebbsfleet.org.uk/event/year-11-and-13-prom/
CATEGORIES:School Events
END:VEVENT
BEGIN:VEVENT
DTSTART;VALUE=DATE:20230503
DTEND;VALUE=DATE:20230504
DTSTAMP:20260422T142951
CREATED:20220721T133017Z
LAST-MODIFIED:20220721T133017Z
UID:591-1683072000-1683158399@leighacademyebbsfleet.org.uk
SUMMARY:LAT Showcase Event
DESCRIPTION:
URL:https://leighacademyebbsfleet.org.uk/event/lat-showcase-event/
CATEGORIES:School Events
END:VEVENT
BEGIN:VEVENT
DTSTART;VALUE=DATE:20230428
DTEND;VALUE=DATE:20230429
DTSTAMP:20260422T142951
CREATED:20220721T132927Z
LAST-MODIFIED:20220721T132927Z
UID:589-1682640000-1682726399@leighacademyebbsfleet.org.uk
SUMMARY:Culture Day
DESCRIPTION:
URL:https://leighacademyebbsfleet.org.uk/event/culture-day/
CATEGORIES:School Events
END:VEVENT
BEGIN:VEVENT
DTSTART;VALUE=DATE:20230331
DTEND;VALUE=DATE:20230409
DTSTAMP:20260422T142951
CREATED:20220721T132746Z
LAST-MODIFIED:20220721T132814Z
UID:588-1680220800-1680998399@leighacademyebbsfleet.org.uk
SUMMARY:Ski Trip
DESCRIPTION:
URL:https://leighacademyebbsfleet.org.uk/event/ski-trip/
CATEGORIES:Holidays,School Events
END:VEVENT
BEGIN:VEVENT
DTSTART;VALUE=DATE:20230329
DTEND;VALUE=DATE:20230330
DTSTAMP:20260422T142951
CREATED:20220721T132717Z
LAST-MODIFIED:20220721T132717Z
UID:587-1680048000-1680134399@leighacademyebbsfleet.org.uk
SUMMARY:Drama Production
DESCRIPTION:
URL:https://leighacademyebbsfleet.org.uk/event/drama-production/
CATEGORIES:School Events
END:VEVENT
BEGIN:VEVENT
DTSTART;VALUE=DATE:20230214
DTEND;VALUE=DATE:20230215
DTSTAMP:20260422T142951
CREATED:20220721T132324Z
LAST-MODIFIED:20220721T132324Z
UID:584-1676332800-1676419199@leighacademyebbsfleet.org.uk
SUMMARY:Safer Internet day
DESCRIPTION:
URL:https://leighacademyebbsfleet.org.uk/event/safer-internet-day/
CATEGORIES:School Events
END:VEVENT
BEGIN:VEVENT
DTSTART;VALUE=DATE:20221208
DTEND;VALUE=DATE:20221209
DTSTAMP:20260422T142951
CREATED:20221129T120954Z
LAST-MODIFIED:20221129T120954Z
UID:771-1670457600-1670543999@leighacademyebbsfleet.org.uk
SUMMARY:Christmas Jumper Day
DESCRIPTION:
URL:https://leighacademyebbsfleet.org.uk/event/christmas-jumper-day/
CATEGORIES:School Events
END:VEVENT
BEGIN:VEVENT
DTSTART;VALUE=DATE:20221125
DTEND;VALUE=DATE:20221126
DTSTAMP:20260422T142951
CREATED:20220721T134602Z
LAST-MODIFIED:20220721T150212Z
UID:621-1669334400-1669420799@leighacademyebbsfleet.org.uk
SUMMARY:Inter-college competition
DESCRIPTION:
URL:https://leighacademyebbsfleet.org.uk/event/inter-college-competition/
CATEGORIES:School Events
END:VEVENT
BEGIN:VEVENT
DTSTART;TZID=UTC:20221110T160000
DTEND;TZID=UTC:20221110T190000
DTSTAMP:20260422T142951
CREATED:20220715T132019Z
LAST-MODIFIED:20220715T132019Z
UID:516-1668096000-1668106800@leighacademyebbsfleet.org.uk
SUMMARY:EA6 Post 16
DESCRIPTION:
URL:https://leighacademyebbsfleet.org.uk/event/ea6-post-16/
CATEGORIES:School Events
END:VEVENT
BEGIN:VEVENT
DTSTART;VALUE=DATE:20221024
DTEND;VALUE=DATE:20221029
DTSTAMP:20260422T142951
CREATED:20220721T133529Z
LAST-MODIFIED:20220721T150212Z
UID:601-1666569600-1667001599@leighacademyebbsfleet.org.uk
SUMMARY:Community Cohesion Event
DESCRIPTION:
URL:https://leighacademyebbsfleet.org.uk/event/community-cohesion-event/
CATEGORIES:School Events
END:VEVENT
BEGIN:VEVENT
DTSTART;TZID=UTC:20221014T090000
DTEND;TZID=UTC:20221014T103000
DTSTAMP:20260422T142951
CREATED:20220715T131746Z
LAST-MODIFIED:20220715T131746Z
UID:511-1665738000-1665743400@leighacademyebbsfleet.org.uk
SUMMARY:Open Morning
DESCRIPTION:
URL:https://leighacademyebbsfleet.org.uk/event/open-morning/
CATEGORIES:School Events
END:VEVENT
BEGIN:VEVENT
DTSTART;VALUE=DATE:20221014
DTEND;VALUE=DATE:20221015
DTSTAMP:20260422T142951
CREATED:20220721T133343Z
LAST-MODIFIED:20220721T150212Z
UID:600-1665705600-1665791999@leighacademyebbsfleet.org.uk
SUMMARY:UCAS Deadline
DESCRIPTION:
URL:https://leighacademyebbsfleet.org.uk/event/ucas-deadline/
CATEGORIES:School Events
END:VEVENT
BEGIN:VEVENT
DTSTART;VALUE=DATE:20221005
DTEND;VALUE=DATE:20221006
DTSTAMP:20260422T142951
CREATED:20220721T133239Z
LAST-MODIFIED:20220721T150148Z
UID:599-1664928000-1665014399@leighacademyebbsfleet.org.uk
SUMMARY:Catch up School Photos session
DESCRIPTION:
URL:https://leighacademyebbsfleet.org.uk/event/catch-up-school-photos-session/
CATEGORIES:School Events
END:VEVENT
BEGIN:VEVENT
DTSTART;TZID=UTC:20221004T090000
DTEND;TZID=UTC:20221004T103000
DTSTAMP:20260422T142951
CREATED:20220715T131720Z
LAST-MODIFIED:20220715T131720Z
UID:510-1664874000-1664879400@leighacademyebbsfleet.org.uk
SUMMARY:Year 7 Open Morning
DESCRIPTION:
URL:https://leighacademyebbsfleet.org.uk/event/year-7-open-morning-2/
CATEGORIES:School Events
END:VEVENT
BEGIN:VEVENT
DTSTART;TZID=UTC:20221001T090000
DTEND;TZID=UTC:20221001T120000
DTSTAMP:20260422T142951
CREATED:20220715T131645Z
LAST-MODIFIED:20220715T131645Z
UID:509-1664614800-1664625600@leighacademyebbsfleet.org.uk
SUMMARY:Year 7 Open Morning
DESCRIPTION:
URL:https://leighacademyebbsfleet.org.uk/event/year-7-open-morning/
CATEGORIES:School Events
END:VEVENT
BEGIN:VEVENT
DTSTART;VALUE=DATE:20220929
DTEND;VALUE=DATE:20220930
DTSTAMP:20260422T142951
CREATED:20220721T133151Z
LAST-MODIFIED:20220721T150148Z
UID:598-1664409600-1664495999@leighacademyebbsfleet.org.uk
SUMMARY:COVID 19 Booster Vaccines
DESCRIPTION:
URL:https://leighacademyebbsfleet.org.uk/event/covid-19-booster-vaccines/
CATEGORIES:School Events
END:VEVENT
BEGIN:VEVENT
DTSTART;TZID=UTC:20220928T160000
DTEND;TZID=UTC:20220928T190000
DTSTAMP:20260422T142951
CREATED:20220715T131345Z
LAST-MODIFIED:20220715T131830Z
UID:512-1664380800-1664391600@leighacademyebbsfleet.org.uk
SUMMARY:Year 7 Open afternoon/evening
DESCRIPTION:
URL:https://leighacademyebbsfleet.org.uk/event/year-7-open-afternoon-evening/
CATEGORIES:School Events
END:VEVENT
END:VCALENDAR