BEGIN:VCALENDAR
VERSION:2.0
PRODID:-//Leigh Academy Ebbsfleet - ECPv6.15.20//NONSGML v1.0//EN
CALSCALE:GREGORIAN
METHOD:PUBLISH
X-ORIGINAL-URL:https://leighacademyebbsfleet.org.uk
X-WR-CALDESC:Events for Leigh Academy Ebbsfleet
REFRESH-INTERVAL;VALUE=DURATION:PT1H
X-Robots-Tag:noindex
X-PUBLISHED-TTL:PT1H
BEGIN:VTIMEZONE
TZID:UTC
BEGIN:STANDARD
TZOFFSETFROM:+0000
TZOFFSETTO:+0000
TZNAME:UTC
DTSTART:20210101T000000
END:STANDARD
END:VTIMEZONE
BEGIN:VEVENT
DTSTART;VALUE=DATE:20260213
DTEND;VALUE=DATE:20260214
DTSTAMP:20260422T224911
CREATED:20250915T125453Z
LAST-MODIFIED:20250915T125453Z
UID:2074-1770940800-1771027199@leighacademyebbsfleet.org.uk
SUMMARY:INSET Day 4 (No students in school)
DESCRIPTION:
URL:https://leighacademyebbsfleet.org.uk/event/inset-day-4-no-students-in-school/
CATEGORIES:Holidays,Term Dates
END:VEVENT
BEGIN:VEVENT
DTSTART;VALUE=DATE:20260105
DTEND;VALUE=DATE:20260106
DTSTAMP:20260422T224911
CREATED:20250915T125222Z
LAST-MODIFIED:20250915T125222Z
UID:2067-1767571200-1767657599@leighacademyebbsfleet.org.uk
SUMMARY:INSET Day 3 (No students in school)
DESCRIPTION:
URL:https://leighacademyebbsfleet.org.uk/event/inset-day-3-no-students-in-school/
CATEGORIES:Holidays,Term Dates
END:VEVENT
BEGIN:VEVENT
DTSTART;VALUE=DATE:20230703
DTEND;VALUE=DATE:20230704
DTSTAMP:20260422T224911
CREATED:20220721T135733Z
LAST-MODIFIED:20220721T135733Z
UID:633-1688342400-1688428799@leighacademyebbsfleet.org.uk
SUMMARY:INSET Day
DESCRIPTION:
URL:https://leighacademyebbsfleet.org.uk/event/inset-day-5/
CATEGORIES:Holidays
END:VEVENT
BEGIN:VEVENT
DTSTART;VALUE=DATE:20230501
DTEND;VALUE=DATE:20230502
DTSTAMP:20260422T224911
CREATED:20220721T135652Z
LAST-MODIFIED:20220721T135652Z
UID:632-1682899200-1682985599@leighacademyebbsfleet.org.uk
SUMMARY:INSET Day
DESCRIPTION:
URL:https://leighacademyebbsfleet.org.uk/event/inset-day-4/
CATEGORIES:Holidays
END:VEVENT
BEGIN:VEVENT
DTSTART;VALUE=DATE:20230331
DTEND;VALUE=DATE:20230409
DTSTAMP:20260422T224911
CREATED:20220721T132746Z
LAST-MODIFIED:20220721T132814Z
UID:588-1680220800-1680998399@leighacademyebbsfleet.org.uk
SUMMARY:Ski Trip
DESCRIPTION:
URL:https://leighacademyebbsfleet.org.uk/event/ski-trip/
CATEGORIES:Holidays,School Events
END:VEVENT
BEGIN:VEVENT
DTSTART;VALUE=DATE:20230210
DTEND;VALUE=DATE:20230211
DTSTAMP:20260422T224911
CREATED:20220721T135630Z
LAST-MODIFIED:20220721T135630Z
UID:631-1675987200-1676073599@leighacademyebbsfleet.org.uk
SUMMARY:INSET Day
DESCRIPTION:
URL:https://leighacademyebbsfleet.org.uk/event/inset-day-3/
CATEGORIES:Holidays
END:VEVENT
BEGIN:VEVENT
DTSTART;VALUE=DATE:20230104
DTEND;VALUE=DATE:20230105
DTSTAMP:20260422T224911
CREATED:20220721T135605Z
LAST-MODIFIED:20220721T135614Z
UID:630-1672790400-1672876799@leighacademyebbsfleet.org.uk
SUMMARY:INSET Day
DESCRIPTION:
URL:https://leighacademyebbsfleet.org.uk/event/inset-day-2/
CATEGORIES:Holidays
END:VEVENT
BEGIN:VEVENT
DTSTART;VALUE=DATE:20221031
DTEND;VALUE=DATE:20221105
DTSTAMP:20260422T224911
CREATED:20220721T133646Z
LAST-MODIFIED:20220721T150241Z
UID:606-1667174400-1667606399@leighacademyebbsfleet.org.uk
SUMMARY:Barcelona Trip
DESCRIPTION:
URL:https://leighacademyebbsfleet.org.uk/event/barcelona-trip/
CATEGORIES:Holidays
END:VEVENT
END:VCALENDAR